BEGIN:VCALENDAR
VERSION:2.0
CALSCALE:GREGORIAN
PRODID:adamgibbons/ics
METHOD:PUBLISH
X-PUBLISHED-TTL:PT1H
BEGIN:VEVENT
UID:13789@offbeat.amsterdam
SUMMARY:Admiral Freebee
DTSTAMP:20260421T053752Z
DTSTART:20260422T173000Z
URL:https://offbeat.amsterdam/event/admiral-freebee
GEO:52.3647777;4.881073026725959
LOCATION:Melkweg - Lijnbaansgracht 234A\, 1017 PH Amsterdam
STATUS:CONFIRMED
CATEGORIES:amsterdam-centrum,singer-songwriter,leidseplein,indie rock,conce
	rt,belgium
END:VEVENT
BEGIN:VEVENT
UID:14019@offbeat.amsterdam
SUMMARY:Balu Brigada
DTSTAMP:20260421T053752Z
DTSTART:20260424T173000Z
URL:https://offbeat.amsterdam/event/balu-brigada
GEO:52.3647777;4.881073026725959
LOCATION:Melkweg - Lijnbaansgracht 234A\, 1017 PH Amsterdam
STATUS:CONFIRMED
CATEGORIES:leidseplein,alternative pop,amsterdam-centrum,concert,indie pop,
	indie rock
END:VEVENT
BEGIN:VEVENT
UID:11035@offbeat.amsterdam
SUMMARY:SOFIA ISELLA
DTSTAMP:20260421T053752Z
DTSTART:20260525T170000Z
URL:https://offbeat.amsterdam/event/sofia-isella-1
GEO:52.3647777;4.881073026725959
LOCATION:Melkweg - Lijnbaansgracht 234A\, 1017 PH Amsterdam
STATUS:CONFIRMED
CATEGORIES:alternative,singer-songwriter,leidseplein,indie rock,concert,ams
	terdam-centrum
END:VEVENT
BEGIN:VEVENT
UID:12255@offbeat.amsterdam
SUMMARY:SOFIA ISELLA
DTSTAMP:20260421T053752Z
DTSTART:20260526T170000Z
URL:https://offbeat.amsterdam/event/sofia-isella-2
GEO:52.3647777;4.881073026725959
LOCATION:Melkweg - Lijnbaansgracht 234A\, 1017 PH Amsterdam
STATUS:CONFIRMED
CATEGORIES:singer-songwriter,amsterdam-centrum,concert,indie rock,leidseple
	in,alternative
END:VEVENT
BEGIN:VEVENT
UID:19391@offbeat.amsterdam
SUMMARY:Usted Señalemelo live in Amsterdam!
DTSTAMP:20260421T053752Z
DTSTART:20260715T173000Z
DTEND:20260715T210000Z
URL:https://offbeat.amsterdam/event/usted-senalemelo-live-in-amsterdam
GEO:52.3966283;4.8755183
LOCATION:Toekomstmuziek - Danzigerbocht 29\, 1013 AM Amsterdam
STATUS:CONFIRMED
CATEGORIES:electronics,amsterdam-west,argentinian music,dance,indie pop,ind
	ie rock,live,live music,minervahaven,new rave,rnb,synth pop,westpoort
END:VEVENT
BEGIN:VEVENT
UID:19385@offbeat.amsterdam
SUMMARY:SIAMÉS “Bounce Into the Music 10th anniversary tour” Amsterdam!
DTSTAMP:20260421T053752Z
DTSTART:20260723T173000Z
DTEND:20260723T210000Z
URL:https://offbeat.amsterdam/event/siames-bounce-into-the-music-10th-anniv
	ersary-tour-amsterdam
GEO:52.3966283;4.8755183
LOCATION:Toekomstmuziek - Danzigerbocht 29\, 1013 AM Amsterdam
STATUS:CONFIRMED
CATEGORIES:amsterdam-west,indie,indie pop,indie rock,live music,minervahave
	n,music,rock,westpoort
END:VEVENT
BEGIN:VEVENT
UID:19782@offbeat.amsterdam
SUMMARY:Matt Maeson
DTSTAMP:20260421T053752Z
DTSTART:20261004T170000Z
URL:https://offbeat.amsterdam/event/matt-maeson-1
GEO:52.3647777;4.881073026725959
LOCATION:Melkweg - Lijnbaansgracht 234A\, 1017 PH Amsterdam
STATUS:CONFIRMED
CATEGORIES:alternative,amsterdam-centrum,concert,indie,indie rock,leidseple
	in
END:VEVENT
BEGIN:VEVENT
UID:20939@offbeat.amsterdam
SUMMARY:NAPA
DTSTAMP:20260421T053752Z
DTSTART:20261115T183000Z
URL:https://offbeat.amsterdam/event/napa
GEO:52.3647777;4.881073026725959
LOCATION:Melkweg - Lijnbaansgracht 234A\, 1017 PH Amsterdam
STATUS:CONFIRMED
CATEGORIES:amsterdam-centrum,concert,eurovision song contest,indie rock,lei
	dseplein,pop
END:VEVENT
END:VCALENDAR
